BEGIN:VCALENDAR
VERSION:2.0
PRODID:-//Gewerbeverein Rüsselsheim 1888 e.V. - ECPv6.15.20//NONSGML v1.0//EN
CALSCALE:GREGORIAN
METHOD:PUBLISH
X-ORIGINAL-URL:https://gv1888.de
X-WR-CALDESC:Veranstaltungen für Gewerbeverein Rüsselsheim 1888 e.V.
REFRESH-INTERVAL;VALUE=DURATION:PT1H
X-Robots-Tag:noindex
X-PUBLISHED-TTL:PT1H
BEGIN:VTIMEZONE
TZID:Europe/Paris
BEGIN:DAYLIGHT
TZOFFSETFROM:+0100
TZOFFSETTO:+0200
TZNAME:CEST
DTSTART:20250330T010000
END:DAYLIGHT
BEGIN:STANDARD
TZOFFSETFROM:+0200
TZOFFSETTO:+0100
TZNAME:CET
DTSTART:20251026T010000
END:STANDARD
BEGIN:DAYLIGHT
TZOFFSETFROM:+0100
TZOFFSETTO:+0200
TZNAME:CEST
DTSTART:20260329T010000
END:DAYLIGHT
BEGIN:STANDARD
TZOFFSETFROM:+0200
TZOFFSETTO:+0100
TZNAME:CET
DTSTART:20261025T010000
END:STANDARD
BEGIN:DAYLIGHT
TZOFFSETFROM:+0100
TZOFFSETTO:+0200
TZNAME:CEST
DTSTART:20270328T010000
END:DAYLIGHT
BEGIN:STANDARD
TZOFFSETFROM:+0200
TZOFFSETTO:+0100
TZNAME:CET
DTSTART:20271031T010000
END:STANDARD
END:VTIMEZONE
BEGIN:VEVENT
DTSTART;TZID=Europe/Paris:20260624T140000
DTEND;TZID=Europe/Paris:20260624T180000
DTSTAMP:20260420T084324
CREATED:20260202T095248Z
LAST-MODIFIED:20260202T122525Z
UID:8182-1782309600-1782324000@gv1888.de
SUMMARY:KI Online-Marketing Tag 2026
DESCRIPTION:Künstliche Intelligenz ist im Online-Marketing angekommen. Tools werden schneller\, Prozesse effizienter – und gleichzeitig steigt der Druck\, die richtigen Entscheidungen zu treffen. Nicht alles\, was möglich ist\, ist sinnvoll. Und nicht jedes Tool bringt echten Mehrwert. \n\n\n\nDer KI Online-Marketing Tag liefert Antworten. Klar\, praxisnah und mit realistischer Einordnung – für Entscheider in kleinen und mittleren Unternehmen\, die jetzt handeln müssen. \n\n\n\nAm 24. Juni 2026 bringt das BIEG Hessen Unternehmer\, Marketingverantwortliche und Fachkräfte in die IHK Frankfurt am Main. Einen Tag lang geht es nicht um Visionen\, sondern um konkrete Fragen aus dem Arbeitsalltag: Wo spart KI Zeit? Wo verbessert sie Ergebnisse? Und wo lohnt sich der Einsatz schlicht nicht? \n\n\n\nAlle Fragen zum Event\, was Dich erwartet\, für wen die Veranstaltung wichtig ist und was es kostet werden hier beantwortet. \n\n\n\nEine Veranstaltung des BIEG | Bei Fragen zum Thema vor Ort Achim Weidner (Gewerbeverein Rüsselsheim). \n\n\n\nDas BIEG Hessen – bieg-hessen.de – ist eine Serviceeinrichtung hessischer Industrie- und Handelskammern\, die kleine Unternehmen\, Gründer und Start-ups bei der Digitalisierung unterstützt. Es bietet kostenfreie\, neutrale Beratung sowie Expertenwissen zu den Schwerpunkten Online-Marketing\, E-Commerce und Social Media.
URL:https://gv1888.de/event/ki-online-marketing-tag-2026/
ATTACH;FMTTYPE=image/jpeg:https://gv1888.de/wp-content/uploads/2026/02/KIimMarketing.jpg
END:VEVENT
BEGIN:VEVENT
DTSTART;TZID=Europe/Paris:20260927T130000
DTEND;TZID=Europe/Paris:20260927T180000
DTSTAMP:20260420T084324
CREATED:20260211T092602Z
LAST-MODIFIED:20260211T092639Z
UID:8246-1790514000-1790532000@gv1888.de
SUMMARY:Verkaufsoffener Rieslingsonntag
DESCRIPTION:Verkaufsoffener Riesling-Sonntag in der Rüsselsheimer Innenstadt
URL:https://gv1888.de/event/verkaufsoffener-rieslingsonntag/
END:VEVENT
END:VCALENDAR