BEGIN:VCALENDAR
VERSION:2.0
PRODID:-//Gewerbeverein Rüsselsheim 1888 e.V. - ECPv6.15.20//NONSGML v1.0//EN
CALSCALE:GREGORIAN
METHOD:PUBLISH
X-WR-CALNAME:Gewerbeverein Rüsselsheim 1888 e.V.
X-ORIGINAL-URL:https://gv1888.de
X-WR-CALDESC:Veranstaltungen für Gewerbeverein Rüsselsheim 1888 e.V.
REFRESH-INTERVAL;VALUE=DURATION:PT1H
X-Robots-Tag:noindex
X-PUBLISHED-TTL:PT1H
BEGIN:VTIMEZONE
TZID:Europe/Paris
BEGIN:DAYLIGHT
TZOFFSETFROM:+0100
TZOFFSETTO:+0200
TZNAME:CEST
DTSTART:20250330T010000
END:DAYLIGHT
BEGIN:STANDARD
TZOFFSETFROM:+0200
TZOFFSETTO:+0100
TZNAME:CET
DTSTART:20251026T010000
END:STANDARD
BEGIN:DAYLIGHT
TZOFFSETFROM:+0100
TZOFFSETTO:+0200
TZNAME:CEST
DTSTART:20260329T010000
END:DAYLIGHT
BEGIN:STANDARD
TZOFFSETFROM:+0200
TZOFFSETTO:+0100
TZNAME:CET
DTSTART:20261025T010000
END:STANDARD
BEGIN:DAYLIGHT
TZOFFSETFROM:+0100
TZOFFSETTO:+0200
TZNAME:CEST
DTSTART:20270328T010000
END:DAYLIGHT
BEGIN:STANDARD
TZOFFSETFROM:+0200
TZOFFSETTO:+0100
TZNAME:CET
DTSTART:20271031T010000
END:STANDARD
END:VTIMEZONE
BEGIN:VEVENT
DTSTART;TZID=Europe/Paris:20260418T080000
DTEND;TZID=Europe/Paris:20260419T170000
DTSTAMP:20260420T101642
CREATED:20251114T143130Z
LAST-MODIFIED:20260411T032655Z
UID:7963-1776499200-1776618000@gv1888.de
SUMMARY:m³ – Mainspitze Messe & Marktplatz
DESCRIPTION:Am 18. und 19. April 2026 verwandelt sich die IGS Mainspitze in den Treffpunkt der Region: Mit der m³ entsteht erstmals ein Format\, das Wirtschaft\, Handwerk\, Dienstleistungen\, Gastronomie\, Vereine\, Ehrenamt sowie Kultur und Sport unter einem Dach vereint. \n\n\n\nBesucher erwartet ein abwechslungsreiches Wochenende mit mehr als 80 Ausstellern\, kulinarischen Angeboten regionaler Gastronomen\, einem vielfältigen Bühnenprogramm mit Fachimpulsen\, Vorträgen und Showacts sowie Sportmodulen zum Mitmachen – für Groß und Klein\, für Familien\, Freunde und Geschäftskontakte gleichermaßen. Der Eintritt ist frei. \n\n\n\n„m³ – mehr als eine Messe“\n\n\n\nÖffnungszeiten Samstag\, 18. April: 11:00 – 18:00 Uhr Sonntag\, 19. April: 10:00 – 18:00 Uhr \n\n\n\nSpendenlauf – Gemeinsam Gutes tun Den Sonntag eröffnet ein Spendenlauf am Altrhein: Der Kidsrun (400 m) startet um 9:00 Uhr\, der Funrun (5 km) um 9:30 Uhr. Alle Startgebühren kommen dem Verein Trauernde Eltern & Kinder Rhein-Main e. V. zugute. \n\n\n\nSundowner Cruise Den Samstag beschließt die Black & White Sundowner Cruise auf dem Altrhein – mit Sektempfang\, DJ und Abendatmosphäre auf dem Wasser. Boarding ab 19:30 Uhr\, Ende ca. 23:00 Uhr. Die Plätze sind limitiert; Tickets sind unter www.gewerbeverein-gigu.de/m3 erhältlich. Dresscode: Schwarz & Weiß. \n\n\n\nAnreise Rund um das Messegelände stehen nur begrenzte Parkplätze zur Verfügung. Die Anreise per ÖPNV oder Fahrrad wird empfohlen. Für ältere und gehbehinderte Besucher richtet die Stadtverwaltung Ginsheim-Gustavsburg einen kostenlosen Pendelverkehr aus beiden Stadtteilen im Stundentakt ein. \n\n\n\nAlle Informationen\, das vollständige Programm und weitere Details finden Sie unter: 👉 www.gewerbeverein-gigu.de/m3 \n\n\n\nDas Messeprogramm als PDF \n\n\n\nAuf dem Laufenden bleiben\, jetzt den Newsletter abonnieren.
URL:https://gv1888.de/event/m3-mehr-als-eine-messe/
ATTACH;FMTTYPE=image/jpeg:https://gv1888.de/wp-content/uploads/2025/11/m3_logo1000x1000.jpg
END:VEVENT
BEGIN:VEVENT
DTSTART;TZID=Europe/Paris:20260416T183000
DTEND;TZID=Europe/Paris:20260416T210000
DTSTAMP:20260420T101642
CREATED:20260128T063331Z
LAST-MODIFIED:20260327T105040Z
UID:8164-1776364200-1776373200@gv1888.de
SUMMARY:13. Unternehmerabend in der Hochschule RheinMain
DESCRIPTION:Der Gewerbeverein Rüsselsheim 1888 e.V. lädt gemeinsam mit der Hochschule RheinMain herzlich zum nächsten Unternehmerabend ein: Donnerstag\, 16. April 2026 18:00 bis 21:00 Uhr\, Hochschule RheinMain – Campus Rüsselsheim\, Am Brückweg 26\, Gebäude G Foyer / Raum 002\, 65428 Rüsselsheim am Main \n\n\n\nHochschule RheinMain | Foto Achim Weidner\n\n\n\nProgramm18:00 Uhr Empfang18:30 Uhr Begrüßung Stephan Bernhardt\, Vorstand Gewerbeverein Rüsselsheim \n\n\n\nVorstellung der Hochschule: Prof. Dr. Andreas Brensing – Vizepräsident für Forschung\, Entrepreneurship und Wissenschaftskommunikationder Hochschule RheinMain \n\n\n\nImpulsvortrag: „Zukunft sichern: Digital. Attraktiv. Nachhaltig.“ Dr. Maria Wiesmann – Vertretungsprofessorin Fachbereich Ingenieurwissenschaften zuvor 10 Jahre Regionalverkaufsleitung ALDI Süd \n\n\n\n19:15 Uhr Fragen und AustauschDr. Wiesmann und Gäste19:45 Uhr Come together & Netzwerkenmit Getränken und Fingerfood \n\n\n\nEine starke Vernetzung lebt vom persönlichen Dialog – lassen Sie uns Rüsselsheimgemeinsam gestalten! Anmeldung: Bitte melden Sie sich für unsere Planung rechtzeitig über folgenden Anmeldelink an.
URL:https://gv1888.de/event/unternehmerabend/
ATTACH;FMTTYPE=image/jpeg:https://gv1888.de/wp-content/uploads/2025/02/Hochschule-RheinMain-Neubau.jpg
END:VEVENT
END:VCALENDAR