BEGIN:VCALENDAR
VERSION:2.0
PRODID:-//Gewerbeverein Rüsselsheim 1888 e.V. - ECPv6.15.20//NONSGML v1.0//EN
CALSCALE:GREGORIAN
METHOD:PUBLISH
X-ORIGINAL-URL:https://gv1888.de
X-WR-CALDESC:Veranstaltungen für Gewerbeverein Rüsselsheim 1888 e.V.
REFRESH-INTERVAL;VALUE=DURATION:PT1H
X-Robots-Tag:noindex
X-PUBLISHED-TTL:PT1H
BEGIN:VTIMEZONE
TZID:Europe/Paris
BEGIN:DAYLIGHT
TZOFFSETFROM:+0100
TZOFFSETTO:+0200
TZNAME:CEST
DTSTART:20250330T010000
END:DAYLIGHT
BEGIN:STANDARD
TZOFFSETFROM:+0200
TZOFFSETTO:+0100
TZNAME:CET
DTSTART:20251026T010000
END:STANDARD
BEGIN:DAYLIGHT
TZOFFSETFROM:+0100
TZOFFSETTO:+0200
TZNAME:CEST
DTSTART:20260329T010000
END:DAYLIGHT
BEGIN:STANDARD
TZOFFSETFROM:+0200
TZOFFSETTO:+0100
TZNAME:CET
DTSTART:20261025T010000
END:STANDARD
BEGIN:DAYLIGHT
TZOFFSETFROM:+0100
TZOFFSETTO:+0200
TZNAME:CEST
DTSTART:20270328T010000
END:DAYLIGHT
BEGIN:STANDARD
TZOFFSETFROM:+0200
TZOFFSETTO:+0100
TZNAME:CET
DTSTART:20271031T010000
END:STANDARD
END:VTIMEZONE
BEGIN:VEVENT
DTSTART;TZID=Europe/Paris:20260624T190000
DTEND;TZID=Europe/Paris:20260724T170000
DTSTAMP:20260421T124924
CREATED:20260421T084840Z
LAST-MODIFIED:20260421T084840Z
UID:8388-1782327600-1784912400@gv1888.de
SUMMARY:Unternehmerstammtisch La Villetta
DESCRIPTION:In Bearbeitung
URL:https://gv1888.de/event/unternehmerstammtisch-la-villetta/
END:VEVENT
END:VCALENDAR